BEGIN:VCALENDAR
VERSION:2.0
PRODID:icalendar-ruby
CALSCALE:GREGORIAN
METHOD:PUBLISH
BEGIN:VTIMEZONE
TZID:Australia/Sydney
BEGIN:DAYLIGHT
DTSTART:20261004T030000
TZOFFSETFROM:+1000
TZOFFSETTO:+1100
RRULE:FREQ=YEARLY;BYDAY=1SU;BYMONTH=10
TZNAME:AEDT
END:DAYLIGHT
BEGIN:STANDARD
DTSTART:20260405T020000
TZOFFSETFROM:+1100
TZOFFSETTO:+1000
RRULE:FREQ=YEARLY;BYDAY=1SU;BYMONTH=4
TZNAME:AEST
END:STANDARD
END:VTIMEZONE
BEGIN:VEVENT
DTSTAMP:20260423T101136Z
UID:inspection_3009506
DTSTART;TZID=Australia/Sydney:20260425T110000
DTEND;TZID=Australia/Sydney:20260425T112000
CLASS:PUBLIC
CREATED:20260422T142429
DESCRIPTION: 
LAST-MODIFIED:20260422T142429
LOCATION:1009 / 8 Glen Street\, MILSONS POINT NSW 2061\, Australia
SUMMARY:1009 / 8 Glen Street\,  Inspection
URL;VALUE=URI:http://www.nexusproperty.com.au/
END:VEVENT
END:VCALENDAR
